BEGIN:VCALENDAR
VERSION:2.0
PRODID:www.localdojo.com
BEGIN:VEVENT
UID:69e6552116815
DTSTART;TZID=Europe/Prague:20260425T103000
SEQUENCE:0
TRANSP:OPAQUE
DTEND;TZID=Europe/Prague:20260425T113000
URL:https://www.localdojo.com/us/denver-aikikai
LOCATION:1592 S Broadway\, Denver\, CO 80210\, United States
SUMMARY:Denver Aikikai - beginner's
CLASS:PUBLIC
DESCRIPTION:beginner's
RRULE:FREQ=WEEKLY;INTERVAL=1
DTSTAMP:20260420T163233Z
END:VEVENT
END:VCALENDAR