BEGIN:VCALENDAR
VERSION:2.0
PRODID:www.localdojo.com
BEGIN:VEVENT
UID:69e62a3ce97a9
DTSTART;TZID=Europe/Prague:20260425T114500
SEQUENCE:0
TRANSP:OPAQUE
DTEND;TZID=Europe/Prague:20260425T130000
URL:https://www.localdojo.com/us/denver-aikikai
LOCATION:1592 S Broadway\, Denver\, CO 80210\, United States
SUMMARY:Denver Aikikai - weapons
CLASS:PUBLIC
DESCRIPTION:weapons
RRULE:FREQ=WEEKLY;INTERVAL=1
DTSTAMP:20260420T132932Z
END:VEVENT
END:VCALENDAR