BEGIN:VCALENDAR
VERSION:2.0
PRODID:www.localdojo.com
BEGIN:VEVENT
UID:69e633e115f86
DTSTART;TZID=Europe/Prague:20260426T103000
SEQUENCE:0
TRANSP:OPAQUE
DTEND;TZID=Europe/Prague:20260426T120000
URL:https://www.localdojo.com/us/denver-aikikai
LOCATION:1592 S Broadway\, Denver\, CO 80210\, United States
SUMMARY:Denver Aikikai - open mat
CLASS:PUBLIC
DESCRIPTION:open mat
RRULE:FREQ=WEEKLY;INTERVAL=1
DTSTAMP:20260420T141041Z
END:VEVENT
END:VCALENDAR