BEGIN:VCALENDAR
VERSION:2.0
PRODID:www.localdojo.com
BEGIN:VEVENT
UID:69e54d5a2c2ce
DTSTART;TZID=Europe/Prague:20260421T183000
SEQUENCE:0
TRANSP:OPAQUE
DTEND;TZID=Europe/Prague:20260421T200000
URL:https://www.localdojo.com/us/diamond-state-aikido
LOCATION:26 Karlyn Dr\, New Castle\, DE 19720\, United States
SUMMARY:Diamond State Aikido
CLASS:PUBLIC
RRULE:FREQ=WEEKLY;INTERVAL=1
DTSTAMP:20260419T214706Z
END:VEVENT
END:VCALENDAR