BEGIN:VCALENDAR
VERSION:2.0
PRODID:www.localdojo.com
BEGIN:VEVENT
UID:69e556c46f2e7
DTSTART;TZID=Europe/Prague:20260422T190000
SEQUENCE:0
TRANSP:OPAQUE
DTEND;TZID=Europe/Prague:20260422T200000
URL:https://www.localdojo.com/us/east-bay-aikido
LOCATION:1446 Leimert Blvd\, Oakland\, CA 94602\, United States
SUMMARY:East Bay Aikido - open mat
CLASS:PUBLIC
DESCRIPTION:open mat
RRULE:FREQ=WEEKLY;INTERVAL=1
DTSTAMP:20260419T222716Z
END:VEVENT
END:VCALENDAR