BEGIN:VCALENDAR
VERSION:2.0
PRODID:www.localdojo.com
BEGIN:VEVENT
UID:69e4e47854dd0
DTSTART;TZID=Europe/Prague:20260423T180000
SEQUENCE:0
TRANSP:OPAQUE
DTEND;TZID=Europe/Prague:20260423T184500
URL:https://www.localdojo.com/us/east-bay-aikido
LOCATION:1446 Leimert Blvd\, Oakland\, CA 94602\, United States
SUMMARY:East Bay Aikido - basics
CLASS:PUBLIC
DESCRIPTION:basics
RRULE:FREQ=WEEKLY;INTERVAL=1
DTSTAMP:20260419T141936Z
END:VEVENT
END:VCALENDAR