BEGIN:VCALENDAR
VERSION:2.0
PRODID:www.localdojo.com
BEGIN:VEVENT
UID:69e605a7869ac
DTSTART;TZID=America/Matamoros:20260422T190000
SEQUENCE:0
TRANSP:OPAQUE
DTEND;TZID=America/Matamoros:20260422T200000
URL:https://www.localdojo.com/us/empire-jiu-jitsu
LOCATION:309 W MARTIN LUTHER KING JR BLVD\, Austin\, 78701\, United States
X-APPLE-STRUCTURED-LOCATION;VALUE=URI;X-ADDRESS="309 W MARTIN LUTHER KING J
 R BLVD, Austin, 78701, United States";X-APPLE-RADIUS=49;X-TITLE=Empire Jiu
 -Jitsu:geo:30.281276,-97.741346
GEO:30.281276;-97.741346
SUMMARY:Empire Jiu-Jitsu - bjj advanced
CLASS:PUBLIC
DESCRIPTION:bjj advanced
RRULE:FREQ=WEEKLY;INTERVAL=1
DTSTAMP:20260420T105327Z
END:VEVENT
END:VCALENDAR