BEGIN:VCALENDAR
VERSION:2.0
PRODID:www.localdojo.com
BEGIN:VEVENT
UID:69e504fdcf9fa
DTSTART;TZID=America/Toronto:20260420T180000
SEQUENCE:0
TRANSP:OPAQUE
DTEND;TZID=America/Toronto:20260420T200000
URL:https://www.localdojo.com/us/finger-lakes-aikido
LOCATION:301 S Geneva St\, Ithaca\, NY 14850\, United States
X-APPLE-STRUCTURED-LOCATION;VALUE=URI;X-ADDRESS="301 S Geneva St, Ithaca, N
 Y 14850, United States";X-APPLE-RADIUS=49;X-TITLE=Finger Lakes Aikido:geo:
 42.436458,-76.500373
GEO:42.436458;-76.500373
SUMMARY:Finger Lakes Aikido
CLASS:PUBLIC
RRULE:FREQ=WEEKLY;INTERVAL=1
DTSTAMP:20260419T163821Z
END:VEVENT
END:VCALENDAR