BEGIN:VCALENDAR
VERSION:2.0
PRODID:www.localdojo.com
BEGIN:VEVENT
UID:69e68ad1ca53e
DTSTART;TZID=Europe/Prague:20260427T190000
SEQUENCE:0
TRANSP:OPAQUE
DTEND;TZID=Europe/Prague:20260427T200000
URL:https://www.localdojo.com/us/fudoshin-dojo-2
LOCATION:810 FM 205\, Stephenville\, 76401\, United States
SUMMARY:Fudoshin Dojo - Adults Training
CLASS:PUBLIC
DESCRIPTION:Adults Training
RRULE:FREQ=WEEKLY;INTERVAL=1
DTSTAMP:20260420T202137Z
END:VEVENT
END:VCALENDAR