BEGIN:VCALENDAR
VERSION:2.0
PRODID:www.localdojo.com
BEGIN:VEVENT
UID:69e69923d0610
DTSTART;TZID=Europe/Prague:20260421T193000
SEQUENCE:0
TRANSP:OPAQUE
DTEND;TZID=Europe/Prague:20260421T203000
URL:https://www.localdojo.com/us/fudoshin-dojo-2
LOCATION:810 FM 205\, Stephenville\, 76401\, United States
SUMMARY:Fudoshin Dojo - Advanced Training
CLASS:PUBLIC
DESCRIPTION:Advanced Training
RRULE:FREQ=WEEKLY;INTERVAL=1
DTSTAMP:20260420T212243Z
END:VEVENT
END:VCALENDAR