BEGIN:VCALENDAR
VERSION:2.0
PRODID:www.localdojo.com
BEGIN:VEVENT
UID:69e9d5a902b29
DTSTART;TZID=Europe/Prague:20260429T193000
SEQUENCE:0
TRANSP:OPAQUE
DTEND;TZID=Europe/Prague:20260429T203000
URL:https://www.localdojo.com/us/heaven-and-earth-aikido
LOCATION:688 Spring Street\, Herndon\, VA 20170\, United States
SUMMARY:Heaven and Earth Aikido - aikido and jodo
CLASS:PUBLIC
DESCRIPTION:aikido and jodo
RRULE:FREQ=WEEKLY;INTERVAL=1
DTSTAMP:20260423T081745Z
END:VEVENT
END:VCALENDAR