BEGIN:VCALENDAR
VERSION:2.0
PRODID:www.localdojo.com
BEGIN:VEVENT
UID:69e83ed4f1a83
DTSTART;TZID=Europe/Prague:20260424T181500
SEQUENCE:0
TRANSP:OPAQUE
DTEND;TZID=Europe/Prague:20260424T190000
URL:https://www.localdojo.com/us/jersey-shore-aikikai
LOCATION:2413 Bridge Avenue\, Point Pleasant\, NJ 08742\, United States
SUMMARY:Jersey Shore Aikikai
CLASS:PUBLIC
RRULE:FREQ=WEEKLY;INTERVAL=1
DTSTAMP:20260422T032157Z
END:VEVENT
END:VCALENDAR