BEGIN:VCALENDAR
VERSION:2.0
PRODID:www.localdojo.com
BEGIN:VEVENT
UID:69e681c28039c
DTSTART;TZID=America/New_York:20260421T063000
SEQUENCE:0
TRANSP:OPAQUE
DTEND;TZID=America/New_York:20260421T073000
URL:https://www.localdojo.com/us/long-island-aikikai
LOCATION:15 N Clinton Ave\, Bay Shore\, NY 11706\, United States
X-APPLE-STRUCTURED-LOCATION;VALUE=URI;X-ADDRESS="15 N Clinton Ave, Bay Shor
 e, NY 11706, United States";X-APPLE-RADIUS=49;X-TITLE=Long Island Aikikai:
 geo:40.722740,-73.256782
GEO:40.722740;-73.256782
SUMMARY:Long Island Aikikai - aikido
CLASS:PUBLIC
DESCRIPTION:aikido
RRULE:FREQ=WEEKLY;INTERVAL=1
DTSTAMP:20260420T194258Z
END:VEVENT
END:VCALENDAR