BEGIN:VCALENDAR
VERSION:2.0
PRODID:www.localdojo.com
BEGIN:VEVENT
UID:69e50f17acf66
DTSTART;TZID=America/New_York:20260422T173000
SEQUENCE:0
TRANSP:OPAQUE
DTEND;TZID=America/New_York:20260422T190000
URL:https://www.localdojo.com/us/mit-aikido-club
LOCATION:77 Massachusetts Avenue\, Cambridge\, MA 02139\, United States
X-APPLE-STRUCTURED-LOCATION;VALUE=URI;X-ADDRESS="77 Massachusetts Avenue, C
 ambridge, MA 02139, United States";X-APPLE-RADIUS=49;X-TITLE=Mit Aikido Cl
 ub:geo:42.359858,-71.099130
GEO:42.359858;-71.099130
SUMMARY:Mit Aikido Club - beginner
CLASS:PUBLIC
DESCRIPTION:beginner
RRULE:FREQ=WEEKLY;INTERVAL=1
DTSTAMP:20260419T172127Z
END:VEVENT
END:VCALENDAR