BEGIN:VCALENDAR
VERSION:2.0
PRODID:www.localdojo.com
BEGIN:VEVENT
UID:69e5e3e9827de
DTSTART;TZID=Europe/Prague:20260424T070000
SEQUENCE:0
TRANSP:OPAQUE
DTEND;TZID=Europe/Prague:20260424T080000
URL:https://www.localdojo.com/us/new-england-aikikai
LOCATION:2000 Massachusetts Avenue\, Cambridge\, MA 02140\, United States
SUMMARY:New England Aikikai
CLASS:PUBLIC
RRULE:FREQ=WEEKLY;INTERVAL=1
DTSTAMP:20260420T082929Z
END:VEVENT
END:VCALENDAR