BEGIN:VCALENDAR
VERSION:2.0
PRODID:www.localdojo.com
BEGIN:VEVENT
UID:69e641c342cf5
DTSTART;TZID=Europe/Prague:20260424T190000
SEQUENCE:0
TRANSP:OPAQUE
DTEND;TZID=Europe/Prague:20260424T200000
URL:https://www.localdojo.com/us/new-england-aikikai
LOCATION:2000 Massachusetts Avenue\, Cambridge\, MA 02140\, United States
SUMMARY:New England Aikikai - weapons
CLASS:PUBLIC
DESCRIPTION:weapons
RRULE:FREQ=WEEKLY;INTERVAL=1
DTSTAMP:20260420T150955Z
END:VEVENT
END:VCALENDAR