BEGIN:VCALENDAR
VERSION:2.0
PRODID:www.localdojo.com
BEGIN:VEVENT
UID:69e65123b14df
DTSTART;TZID=Europe/Prague:20260426T100000
SEQUENCE:0
TRANSP:OPAQUE
DTEND;TZID=Europe/Prague:20260426T110000
URL:https://www.localdojo.com/us/new-england-aikikai
LOCATION:2000 Massachusetts Avenue\, Cambridge\, MA 02140\, United States
SUMMARY:New England Aikikai - iaido
CLASS:PUBLIC
DESCRIPTION:iaido
RRULE:FREQ=WEEKLY;INTERVAL=1
DTSTAMP:20260420T161531Z
END:VEVENT
END:VCALENDAR