BEGIN:VCALENDAR
VERSION:2.0
PRODID:www.localdojo.com
BEGIN:VEVENT
UID:69e60e20df64b
DTSTART;TZID=Europe/Prague:20260426T123000
SEQUENCE:0
TRANSP:OPAQUE
DTEND;TZID=Europe/Prague:20260426T133000
URL:https://www.localdojo.com/us/new-england-aikikai
LOCATION:2000 Massachusetts Avenue\, Cambridge\, MA 02140\, United States
SUMMARY:New England Aikikai - children
CLASS:PUBLIC
DESCRIPTION:children
RRULE:FREQ=WEEKLY;INTERVAL=1
DTSTAMP:20260420T112936Z
END:VEVENT
END:VCALENDAR