BEGIN:VCALENDAR
VERSION:2.0
PRODID:www.localdojo.com
BEGIN:VEVENT
UID:69e505232f152
DTSTART;TZID=Europe/Prague:20260420T183000
SEQUENCE:0
TRANSP:OPAQUE
DTEND;TZID=Europe/Prague:20260420T193000
URL:https://www.localdojo.com/us/palm-beach-aikikai
LOCATION:1696 Old Okeechobee Rd.\, West Palm Beach\, FL 33409\, United Stat
 es
SUMMARY:Palm Beach Aikikai - basics class
CLASS:PUBLIC
DESCRIPTION:basics class
RRULE:FREQ=WEEKLY;INTERVAL=1
DTSTAMP:20260419T163859Z
END:VEVENT
END:VCALENDAR