BEGIN:VCALENDAR
VERSION:2.0
PRODID:www.localdojo.com
BEGIN:VEVENT
UID:69e58d79479f3
DTSTART;TZID=Europe/Prague:20260427T154500
SEQUENCE:0
TRANSP:OPAQUE
DTEND;TZID=Europe/Prague:20260427T163000
URL:https://www.localdojo.com/us/portland-aikido
LOCATION:120 Woodford St\, Portland\, ME 04103\, United States
SUMMARY:Portland Aikido - children
CLASS:PUBLIC
DESCRIPTION:children
RRULE:FREQ=WEEKLY;INTERVAL=1
DTSTAMP:20260420T022041Z
END:VEVENT
END:VCALENDAR