BEGIN:VCALENDAR
VERSION:2.0
PRODID:www.localdojo.com
BEGIN:VEVENT
UID:69e58d7ac3925
DTSTART;TZID=Europe/Prague:20260421T174500
SEQUENCE:0
TRANSP:OPAQUE
DTEND;TZID=Europe/Prague:20260421T184500
URL:https://www.localdojo.com/us/portland-aikido
LOCATION:120 Woodford St\, Portland\, ME 04103\, United States
SUMMARY:Portland Aikido - beginners
CLASS:PUBLIC
DESCRIPTION:beginners
RRULE:FREQ=WEEKLY;INTERVAL=1
DTSTAMP:20260420T022042Z
END:VEVENT
END:VCALENDAR