BEGIN:VCALENDAR
VERSION:2.0
PRODID:www.localdojo.com
BEGIN:VEVENT
UID:69e4ebba39e8c
DTSTART;TZID=Europe/Prague:20260422T164500
SEQUENCE:0
TRANSP:OPAQUE
DTEND;TZID=Europe/Prague:20260422T174500
URL:https://www.localdojo.com/us/portland-aikido
LOCATION:120 Woodford St\, Portland\, ME 04103\, United States
SUMMARY:Portland Aikido - iaido
CLASS:PUBLIC
DESCRIPTION:iaido
RRULE:FREQ=WEEKLY;INTERVAL=1
DTSTAMP:20260419T145034Z
END:VEVENT
END:VCALENDAR