BEGIN:VCALENDAR
VERSION:2.0
PRODID:www.localdojo.com
BEGIN:VEVENT
UID:69e5cf8719248
DTSTART;TZID=Europe/Prague:20260425T090000
SEQUENCE:0
TRANSP:OPAQUE
DTEND;TZID=Europe/Prague:20260425T094500
URL:https://www.localdojo.com/us/portland-aikido
LOCATION:120 Woodford St\, Portland\, ME 04103\, United States
SUMMARY:Portland Aikido - children
CLASS:PUBLIC
DESCRIPTION:children
RRULE:FREQ=WEEKLY;INTERVAL=1
DTSTAMP:20260420T070231Z
END:VEVENT
END:VCALENDAR