BEGIN:VCALENDAR
VERSION:2.0
PRODID:www.localdojo.com
BEGIN:VEVENT
UID:69e5d9c7e9d92
DTSTART;TZID=Europe/Prague:20260426T083000
SEQUENCE:0
TRANSP:OPAQUE
DTEND;TZID=Europe/Prague:20260426T093000
URL:https://www.localdojo.com/us/portland-aikido
LOCATION:120 Woodford St\, Portland\, ME 04103\, United States
SUMMARY:Portland Aikido - open practice
CLASS:PUBLIC
DESCRIPTION:open practice
RRULE:FREQ=WEEKLY;INTERVAL=1
DTSTAMP:20260420T074615Z
END:VEVENT
END:VCALENDAR