BEGIN:VCALENDAR
VERSION:2.0
PRODID:www.localdojo.com
BEGIN:VEVENT
UID:69e671e47c496
DTSTART;TZID=America/New_York:20260421T173000
SEQUENCE:0
TRANSP:OPAQUE
DTEND;TZID=America/New_York:20260421T183000
URL:https://www.localdojo.com/us/rivertide-aikikai
LOCATION:3198 Old Kings Road\, Catskill\, NY 12414\, United States
X-APPLE-STRUCTURED-LOCATION;VALUE=URI;X-ADDRESS="3198 Old Kings Road, Catsk
 ill, NY 12414, United States";X-APPLE-RADIUS=49;X-TITLE=Rivertide Aikikai:
 geo:42.193344,-73.927588
GEO:42.193344;-73.927588
SUMMARY:Rivertide Aikikai - iaido
CLASS:PUBLIC
DESCRIPTION:iaido
RRULE:FREQ=WEEKLY;INTERVAL=1
DTSTAMP:20260420T183516Z
END:VEVENT
END:VCALENDAR