BEGIN:VCALENDAR
VERSION:2.0
PRODID:www.localdojo.com
BEGIN:VEVENT
UID:69e60a86773b9
DTSTART;TZID=Europe/Prague:20260422T200000
SEQUENCE:0
TRANSP:OPAQUE
DTEND;TZID=Europe/Prague:20260422T210000
URL:https://www.localdojo.com/us/southland-aikido
LOCATION:670 Monterey Pass Rd\, Monterey Park\, CA 91754\, United States
SUMMARY:Southland Aikido - iaido
CLASS:PUBLIC
DESCRIPTION:iaido
RRULE:FREQ=WEEKLY;INTERVAL=1
DTSTAMP:20260420T111414Z
END:VEVENT
END:VCALENDAR