BEGIN:VCALENDAR
VERSION:2.0
PRODID:www.localdojo.com
BEGIN:VEVENT
UID:69e4d8029a2e3
DTSTART;TZID=Europe/Prague:20260423T184500
SEQUENCE:0
TRANSP:OPAQUE
DTEND;TZID=Europe/Prague:20260423T200000
URL:https://www.localdojo.com/us/southland-aikido
LOCATION:670 Monterey Pass Rd\, Monterey Park\, CA 91754\, United States
SUMMARY:Southland Aikido - open class aikido
CLASS:PUBLIC
DESCRIPTION:open class aikido
RRULE:FREQ=WEEKLY;INTERVAL=1
DTSTAMP:20260419T132626Z
END:VEVENT
END:VCALENDAR