BEGIN:VCALENDAR
VERSION:2.0
PRODID:www.localdojo.com
BEGIN:VEVENT
UID:69e67edfc9a5c
DTSTART;TZID=Europe/Prague:20260423T200000
SEQUENCE:0
TRANSP:OPAQUE
DTEND;TZID=Europe/Prague:20260423T203000
URL:https://www.localdojo.com/us/southland-aikido
LOCATION:670 Monterey Pass Rd\, Monterey Park\, CA 91754\, United States
SUMMARY:Southland Aikido - free training
CLASS:PUBLIC
DESCRIPTION:free training
RRULE:FREQ=WEEKLY;INTERVAL=1
DTSTAMP:20260420T193039Z
END:VEVENT
END:VCALENDAR