BEGIN:VCALENDAR
VERSION:2.0
PRODID:www.localdojo.com
BEGIN:VEVENT
UID:69e5b117d8c83
DTSTART;TZID=Europe/Prague:20260425T103000
SEQUENCE:0
TRANSP:OPAQUE
DTEND;TZID=Europe/Prague:20260425T114500
URL:https://www.localdojo.com/us/southland-aikido
LOCATION:670 Monterey Pass Rd\, Monterey Park\, CA 91754\, United States
SUMMARY:Southland Aikido - aikido weapons
CLASS:PUBLIC
DESCRIPTION:aikido weapons
RRULE:FREQ=WEEKLY;INTERVAL=1
DTSTAMP:20260420T045239Z
END:VEVENT
END:VCALENDAR